BEGIN:VCALENDAR
VERSION:2.0
PRODID:-//Wille - ECPv6.0.13.1//NONSGML v1.0//EN
CALSCALE:GREGORIAN
METHOD:PUBLISH
X-ORIGINAL-URL:https://www.willenolohuone.com
X-WR-CALDESC:Events for Wille
REFRESH-INTERVAL;VALUE=DURATION:PT1H
X-Robots-Tag:noindex
X-PUBLISHED-TTL:PT1H
BEGIN:VTIMEZONE
TZID:Europe/Helsinki
BEGIN:DAYLIGHT
TZOFFSETFROM:+0200
TZOFFSETTO:+0300
TZNAME:EEST
DTSTART:20260329T010000
END:DAYLIGHT
BEGIN:STANDARD
TZOFFSETFROM:+0300
TZOFFSETTO:+0200
TZNAME:EET
DTSTART:20261025T010000
END:STANDARD
END:VTIMEZONE
BEGIN:VEVENT
DTSTART;TZID=Europe/Helsinki:20260319T173000
DTEND;TZID=Europe/Helsinki:20260319T200000
DTSTAMP:20260420T123426
CREATED:20260218T104328Z
LAST-MODIFIED:20260225T170323Z
UID:3784-1773941400-1773950400@www.willenolohuone.com
SUMMARY:Kirja Wille: Minna Canthin ilta
DESCRIPTION:Minna Canthin ilta Wille Olohuone ja Keittiössä 19.3. klo 17.30 \n\n\n\n\n\n\n\n\n\n\n\n\nTervetuloa viettämään tunnelmallista kirjailtailtaa Kirja Wille -tapahtumaan torstaina 19.3.\, jolloin sukelletaan Minna Canthin elämään ja tuotantoon.  Illan aikana Wanhat Kantturat – Tiina Oksanen\, Taina Myyryläinen ja Maria Kymäläinen – lukevat otteita Canthin pienoisromaanista Hanna. \n\nAija Viinamäki johdattelee illan teemaan kertoen Minna Canthin elämästä ja tuotannosta sekä avaa pienoisromaani Hannan maailmaa ja aikakautta.\n\nIllan herkut Willessä: Voit nauttia listan ruoka-annoksia\, wohveleita tai hemmotella itseäsi illan erikoisuudella – salonkikahveilla. Kahvi tarjoillaan “paremmista kupeista”\, ja kakkuvadille kootaan: vaaleita pikkuleipiä\, Minna Canthin kahvikakkua\, savumuikkuleipiä. Kakkuvati\, mehu ja kahvi 13 € Lämpimästi tervetuloa kulttuurin\, kirjallisuuden ja herkkujen pariin Willeen! \n\n\nVapaa pääsy.
URL:https://www.willenolohuone.com/event/pidennetty-aukiolo-7/
LOCATION:Wille – olohuone & keittiö\, Äänekoskentie 311\, Äänekoski
END:VEVENT
END:VCALENDAR