BEGIN:VCALENDAR
VERSION:2.0
PRODID:-//Wille - ECPv6.0.13.1//NONSGML v1.0//EN
CALSCALE:GREGORIAN
METHOD:PUBLISH
X-ORIGINAL-URL:https://www.willenolohuone.com
X-WR-CALDESC:Events for Wille
REFRESH-INTERVAL;VALUE=DURATION:PT1H
X-Robots-Tag:noindex
X-PUBLISHED-TTL:PT1H
BEGIN:VTIMEZONE
TZID:Europe/Helsinki
BEGIN:DAYLIGHT
TZOFFSETFROM:+0200
TZOFFSETTO:+0300
TZNAME:EEST
DTSTART:20240331T010000
END:DAYLIGHT
BEGIN:STANDARD
TZOFFSETFROM:+0300
TZOFFSETTO:+0200
TZNAME:EET
DTSTART:20241027T010000
END:STANDARD
END:VTIMEZONE
BEGIN:VEVENT
DTSTART;TZID=Europe/Helsinki:20240418T170000
DTEND;TZID=Europe/Helsinki:20240418T190000
DTSTAMP:20260423T113604
CREATED:20240402T091154Z
LAST-MODIFIED:20240402T091433Z
UID:2924-1713459600-1713466800@www.willenolohuone.com
SUMMARY:Kirjallinen kevätilta Willessä
DESCRIPTION:  \nTervehdimme teitä kevätsukkahousuilla ja kutsumme viettämään kirjallista kevätiltaa Willeen torstaina 18. huhtikuuta klo 17.00 alkaen\nJuttelemme kuulumiset ja kirjavinkit\, nautimme Willen herkuista\, toistemme seurasta ja Tiina Oksasen ääneen lukemista novelleista. \nEnsimmäisessä kirjaillassa kuullaan Tiinan lukemana kirjoituksia Sinikka Nopolan teoksesta Tervehdin teitä kevätsukkahousuilla.
URL:https://www.willenolohuone.com/event/kirjallinen-kevatilta-willessa/
END:VEVENT
END:VCALENDAR