BEGIN:VCALENDAR
VERSION:2.0
PRODID:-//Wille - ECPv6.0.13.1//NONSGML v1.0//EN
CALSCALE:GREGORIAN
METHOD:PUBLISH
X-WR-CALNAME:Wille
X-ORIGINAL-URL:https://www.willenolohuone.com
X-WR-CALDESC:Events for Wille
REFRESH-INTERVAL;VALUE=DURATION:PT1H
X-Robots-Tag:noindex
X-PUBLISHED-TTL:PT1H
BEGIN:VTIMEZONE
TZID:Europe/Helsinki
BEGIN:DAYLIGHT
TZOFFSETFROM:+0200
TZOFFSETTO:+0300
TZNAME:EEST
DTSTART:20230326T010000
END:DAYLIGHT
BEGIN:STANDARD
TZOFFSETFROM:+0300
TZOFFSETTO:+0200
TZNAME:EET
DTSTART:20231029T010000
END:STANDARD
END:VTIMEZONE
BEGIN:VEVENT
DTSTART;TZID=Europe/Helsinki:20231216T120000
DTEND;TZID=Europe/Helsinki:20231216T160000
DTSTAMP:20260423T132039
CREATED:20231026T142330Z
LAST-MODIFIED:20231107T095229Z
UID:2674-1702728000-1702742400@www.willenolohuone.com
SUMMARY:Willen joulupöytä
DESCRIPTION:Willen herkullinen joulupöytä on katettu tunnelmalliseen Wille – Olohuone ja Keittiön saliin. Olet tervetullut nauttimaan joulutunnelmasta ja Kokki-Pietarin antimista. \nJoulupöytä on katettuna \nTi 12.12. – Pe 15.12 klo 11.00-14.00 ja klo 16.00-19.00 \nLauantaina 16.12. klo 12.00-16.00 \nMa 18.12. – Pe 22.12. klo 11.00-14.00 ja klo 16.00-19.00 \nJoulupöydän hinta on 43 € \nLapset 4-14 vuotta 2€/ ikävuosi \nVoit varata paikkasi quandoo- pöytävarausjärjestelmästämme tai soittamalla puhelinnumeroon 041-5020806\, tai laittamalla sähköpostia paivipeltola@gmail.com \nVoit varata paikkasi quandoo- pöytävarausjärjestelmästämme tai soittamalla puhelinnumeroon 041-5020806\, tai laittamalla sähköpostia paivipeltola@gmail.com \n 
URL:https://www.willenolohuone.com/event/willen-joulupoyta-4/
LOCATION:Wille – olohuone & keittiö\, Äänekoskentie 311\, Äänekoski
END:VEVENT
BEGIN:VEVENT
DTSTART;TZID=Europe/Helsinki:20231216T190000
DTEND;TZID=Europe/Helsinki:20231216T210000
DTSTAMP:20260423T132039
CREATED:20231026T155126Z
LAST-MODIFIED:20231101T071313Z
UID:2692-1702753200-1702760400@www.willenolohuone.com
SUMMARY:Konsertti: Kun Joulu on
DESCRIPTION:Joulun tunnelmaan matkataan trio-kokoonpanon johdattamana Lämpimästi tervetuloa kanssamme Willen ihastuttavaan miljööseen\nLaulu: Kati Kalenius\nKitara: Ari Lampinen\nKoskettimet: Timo Leppänen \nLiput 10€\, opiskelijat ja eläkeläiset 8€ \nEnnakkovaraukset ja tiedustelut:\nPuh. 040-5345833 \n \nKahvio ja baari palvelee
URL:https://www.willenolohuone.com/event/konsertti-kun-joulu-on/
LOCATION:Wille – olohuone & keittiö\, Äänekoskentie 311\, Äänekoski
END:VEVENT
END:VCALENDAR